BEGIN:VCALENDAR
VERSION:2.0
PRODID:icalendar-ruby
CALSCALE:GREGORIAN
METHOD:PUBLISH
BEGIN:VEVENT
DTSTAMP:20260423T023445Z
UID:38-421199@riveratocala.com
DTSTART;VALUE=DATE:20260920
DTEND;VALUE=DATE:20260920
CLASS:PUBLIC
CREATED:20260422T212448
DESCRIPTION:We look forward to seeing you Sunday morning!\nWe have Spanish 
 Translation if required. \nFor your first visit help yourself to a compli
 mentary beverage at the coffee shop.
LAST-MODIFIED:20260422T212448
LOCATION:
SUMMARY:Sunday Morning Service
URL;VALUE=URI:https://www.riveratocala.com/events/sunday-morning-service/20
 26-09-20
ATTACH;FILENAME=Original Billboard Choice.png;FMTTYPE=image/png:https://dq5
 pwpg1q8ru0.cloudfront.net/2024/08/29/23/16/40/040e4cab-592d-42b0-a24e-85f0
 b8eb0fd1/Original%20Billboard%20Choice.png
END:VEVENT
END:VCALENDAR
